BEGIN:VCALENDAR
VERSION:2.0
PRODID:-//wp-events-plugin.com//7.2.3.1//EN
TZID:Europe/London
X-WR-TIMEZONE:Europe/London
BEGIN:VEVENT
UID:1149@english-toy-terrier-club.com
DTSTART;TZID=Europe/London:20260423T090000
DTEND;TZID=Europe/London:20260423T180000
DTSTAMP:20251029T095843Z
URL:https://english-toy-terrier-club.com/events/west-of-england-ladies-ken
 nel-society-championship-show-welks-2026
SUMMARY:West of England Ladies Kennel Society Championship Show (WELKS) 202
 6
DESCRIPTION:Judge: Dr I Gabriel (KC judge's profile)\n\nSchedule\, online e
 ntries and results will be available via Fosse Data.
CATEGORIES:ETT Championship Shows
LOCATION:Three Counties Showground\, Great Malvern\, Malvern\, WR13 6NW\, U
 nited Kingdom
X-APPLE-STRUCTURED-LOCATION;VALUE=URI;X-ADDRESS=Great Malvern\, Malvern\, W
 R13 6NW\, United Kingdom;X-APPLE-RADIUS=100;X-TITLE=Three Counties Showgro
 und:geo:0,0
END:VEVENT
BEGIN:VTIMEZONE
TZID:Europe/London
X-LIC-LOCATION:Europe/London
BEGIN:DAYLIGHT
DTSTART:20260329T020000
TZOFFSETFROM:+0000
TZOFFSETTO:+0100
TZNAME:BST
END:DAYLIGHT
END:VTIMEZONE
END:VCALENDAR