BEGIN:VCALENDAR
VERSION:2.0
PRODID:-//wp-events-plugin.com//7.2.3.1//EN
TZID:Europe/London
X-WR-TIMEZONE:Europe/London
BEGIN:VEVENT
UID:1169@english-toy-terrier-club.com
DTSTART;TZID=Europe/London:20260918T090000
DTEND;TZID=Europe/London:20260918T180000
DTSTAMP:20251023T113931Z
URL:https://english-toy-terrier-club.com/events/darlington-dog-show-societ
 y-championship-show-2026
SUMMARY:Darlington Dog Show Society Championship Show 2026
DESCRIPTION:Judge: Miss R Inch (KC judge's profile)\n\nSchedule\, online en
 tries and results via Higham Press.
CATEGORIES:ETT Championship Shows
LOCATION:Ripon Racecourse\, Boroughbridge Road\, Ripon \, HG4 1UG\, United 
 Kingdom
X-APPLE-STRUCTURED-LOCATION;VALUE=URI;X-ADDRESS=Boroughbridge Road\, Ripon 
 \, HG4 1UG\, United Kingdom;X-APPLE-RADIUS=100;X-TITLE=Ripon Racecourse:ge
 o:0,0
END:VEVENT
BEGIN:VTIMEZONE
TZID:Europe/London
X-LIC-LOCATION:Europe/London
BEGIN:DAYLIGHT
DTSTART:20260329T020000
TZOFFSETFROM:+0000
TZOFFSETTO:+0100
TZNAME:BST
END:DAYLIGHT
END:VTIMEZONE
END:VCALENDAR